BEGIN:VCALENDAR
VERSION:2.0
PRODID:-//Gletscherbahnen Kaprun AG//Kitzsteinhorn//DE
CALSCALE:GREGORIAN
BEGIN:VEVENT
DTSTART:20260513T170000
DTEND:20260517T163000
LOCATION:Kitzsteinhorn
DTSTAMP:20260421T214752
SUMMARY:elooa CAMP GOOD TIMES
URL;VALUE=URI:https://www.kitzsteinhorn.at/de/service/news-events/events/winter/elooa-camp-good-times
DESCRIPTION:Das größte Snowboard-Camp Europas – mit exklusivem Snowpark\, spannenden Sessions uvm.
UID:20260421T214752-20260513T170000-20260517T163000
END:VEVENT
END:VCALENDAR



