BEGIN:VCALENDAR
VERSION:2.0
PRODID:-//Gletscherbahnen Kaprun AG//Kitzsteinhorn//DE
CALSCALE:GREGORIAN
BEGIN:VEVENT
DTSTART:20260426T070000
DTEND:20260426T130000
LOCATION:Kitzsteinhorn 
DTSTAMP:20260421T214015
SUMMARY:Ski &amp; Brunch mit ÖSV-Athlet Stefan Brennsteiner
URL;VALUE=URI:https://www.kitzsteinhorn.at/de/service/news-events/events/winter/ski-und-brunch
DESCRIPTION:Gewinne einen unvergesslichen Skitag mit ÖSV-Athlet Stefan Brennsteiner am Kitzsteinhorn.
UID:20260421T214015-20260426T070000-20260426T130000
END:VEVENT
END:VCALENDAR



