BEGIN:VCALENDAR
VERSION:2.0
PRODID:-//Gletscherbahnen Kaprun AG//Kitzsteinhorn//DE
CALSCALE:GREGORIAN
BEGIN:VEVENT
DTSTART:20260514T150000
DTEND:20260514T200000
LOCATION:Kitzsteinhorn
DTSTAMP:20260421T214914
SUMMARY:Ski&amp;Golf WM
URL;VALUE=URI:https://www.kitzsteinhorn.at/de/service/news-events/events/sommer/ski-golf-wm
DESCRIPTION:Sportliche Schwünge – zwischen Gletscher\, Berg &amp;amp; See
UID:20260421T214914-20260514T150000-20260514T200000
END:VEVENT
END:VCALENDAR



